Workbook
Name __xlnm.Print_Area_3: 'dzial IV'!$A$1:$H$21
Name __xlnm.Print_Area_4: 'dział V'!$A$1:$F$26
Name nazwa_uczelni: 'dział I'!$O$7:$O$109
Name Uniwersytet_w_Białymstoku: 'dział I'!$O$10:$O$109

Sheet dział I
A1: ………………..………………….
A2: (pieczątka uczelni)
A3: UNIWERSYTET MEDYCZNY W BIAŁYMSTOKU
A4: nazwa uczelni
A5: Plan rzeczowo-finansowy na 2012 r.
A7: Dział I. Rachunek zysków i strat – w tysiącach złotych z jednym znakiem po przecinku
O8: Wybierz z listy rozwijanej
A9: WYSZCZEGÓLNIENIE | E9: Plan na 2012 rok | O9: Uniwersytet w Białymstoku
A10: 1 | E10: 2 | O10: Uniwersytet Gdański w Gdańsku
A11: A. Przychody z działalności operacyjnej (02+21) | D11: 01 | E11: =E12+E31 -> 141619 | O11: Uniwersytet Śląski w Katowicach
A12: Przychody z podstawowej działalności operacyjnej (03+10+19+20) | D12: 02 | E12: =E13+E20+E29+E30 -> 126985.5 | O12: Uniwersytet Jagielloński w Krakowie
A13: Przychody ogółem z działalności dydaktycznej (04+05+06+08) | D13: 03 | E13: =E14+E15+E16+E18 -> 99118 | O13: Uniwersytet Marii Curie-Skłodowskiej w Lublinie
A14: z tego | B14: dotacje z budżetu państwa | D14: 04 | E14: 73678.4 | O14: Uniwersytet Łódzki
B15: środki z budżetów jednostek samorządu terytorialnego lub ich związków | D15: 05 | E15: 0 | O15: Uniwersytet Opolski
B16: opłaty za świadczone usługi edukacyjne | D16: 06 | E16: 17437.1 | O16: Uniwersytet im. Adama Mickiewicza w Poznaniu
B17: w tym | C17: na studiach niestacjonarnych | D17: 07 | E17: 17137.1 | O17: Uniwersytet Mikołaja Kopernika w Toruniu
B18: pozostałe | D18: 08 | E18: 8002.5 | O18: Uniwersytet Warszawski
B19: w tym | C19: środki zagraniczne oraz współfinansowanie krajowe | D19: 09 | E19: 4678 | O19: Uniwersytet Wrocławski
A20: Przychody ogółem z działalności badawczej (11+12+13+15+16+17) | D20: =D19+1 -> 10 | E20: =E21+E22+E23+E25+E26+E27 -> 27815 | O20: Uniwersytet Szczeciński
A21: z tego | B21: dotacje na finansowanie działalności statutowej | D21: =D20+1 -> 11 | E21: 13304.1 | O21: Uniwersytet Warmińsko-Mazurski w Olsztynie
B22: środki na realizację projektów finansowanych przez Narodowe Centrum Badań i Rozwoju oraz Narodowe Centrum Nauki | D22: =D21+1 -> 12 | E22: 8397 | O22: Uniwersytet Kardynała Stefana Wyszyńskiego w Warszawie
B23: środki na finansowanie współpracy naukowej z zagranicą | D23: =D22+1 -> 13 | E23: 4076 | O23: Katolicki Uniwersytet Lubelski Jana Pawła II
B24: w tym | C24: zagraniczne środki finansowe niepodlegające zwrotowi | D24: =D23+1 -> 14 | E24: 4076 | O24: Uniwersytet Rzeszowski
B25: sprzedaż pozostałych prac i usług badawczych i rozwojowych | D25: =D24+1 -> 15 | E25: 1951.9 | O25: Uniwersytet Zielonogórski w Zielonej Górze
B26: środki na realizację programów lub przedsięwzięć określonych przez ministra właściwego do spraw nauki | D26: =D25+1 -> 16 | E26: 46 | O26: Uniwersytet Kazimierza Wielkiego w Bydgoszczy
B27: pozostałe | D27: =D26+1 -> 17 | E27: 40 | O27: Chrześcijańska Akademia Teologiczna w Warszawie
B28: w tym | C28: środki zagraniczne oraz współfinansowanie krajowe | D28: =D27+1 -> 18 | E28: 0 | O28: Uniwersytet Papieski Jana Pawła II w Krakowie
A29: Przychody ogółem z działalności gospodarczej wyodrębnionej | D29: =D28+1 -> 19 | E29: 0 | O29: Papieski Wydział Teologiczny w Warszawie
A30: Koszt wytworzenia świadczeń na własne potrzeby jednostki | D30: =D29+1 -> 20 | E30: 52.5 | O30: Papieski Wydział Teologiczny we Wrocławiu
A31: Pozostałe przychody (22+23) | D31: =D30+1 -> 21 | E31: =E32+E33 -> 14633.5 | O31: Akademia Ignatianum w Krakowie
A32: Przychody ze sprzedaży towarów i materiałów | D32: =D31+1 -> 22 | E32: 0.8 | O32: Szkoła Główna Handlowa w Warszawie
A33: Pozostałe przychody operacyjne | D33: =D32+1 -> 23 | E33: 14632.7 | O33: Uniwersytet Ekonomiczny w Katowicach
O34: Uniwersytet Ekonomiczny w Krakowie
A35: cd. działu I. Rachunek zysków i strat – w tysiącach złotych z jednym znakiem po przecinku | O35: Uniwersytet Ekonomiczny w Poznaniu
O36: Uniwersytet Ekonomiczny we Wrocławiu
A37: WYSZCZEGÓLNIENIE | E37: Plan na 2012 rok | O37: Akademia im. Jana Długosza w Częstochowie
A38: 1 | E38: 2 | O38: Uniwersytet Jana Kochanowskiego w Kielcach
A39: B. Koszty działalności operacyjnej (25+42) | D39: =D33+1 -> 24 | E39: =E40+E57 -> 146325.5 | O39: Uniwersytet Pedagogiczny im. Komisji Edukacji Narodowej w Krakowie
A40: Koszty podstawowej działalności operacyjnej (37) | D40: =D39+1 -> 25 | E40: =E52 -> 146175.5 | O40: Akademia Pomorska w Słupsku
A41: Amortyzacja | D41: =D40+1 -> 26 | E41: 15200 | O41: Akademia Pedagogiki Specjalnej im. Marii Grzegorzewskiej w Warszawie
A42: Zużycie materiałów i energii | D42: =D41+1 -> 27 | E42: 21502.4 | O42: Politechnika Białostocka
A43: Usługi obce | D43: =D42+1 -> 28 | E43: 9182.5 | O43: Politechnika Częstochowska
A44: Podatki i opłaty | D44: =D43+1 -> 29 | E44: 50 | O44: Politechnika Gdańska
A45: Wynagrodzenia | D45: =D44+1 -> 30 | E45: 73849.7 | O45: Politechnika Śląska
A46: w tym | B46: wynikające ze stosunku pracy | D46: =D45+1 -> 31 | E46: 73849.7 | O46: Politechnika Świętokrzyska w Kielcach
A47: Ubezpieczenia społeczne i inne świadczenia na rzecz pracowników | D47: =D46+1 -> 32 | E47: 16948.9 | O47: Politechnika Krakowska im. Tadeusza Kościuszki
A48: Pozostałe koszty rodzajowe | D48: =D47+1 -> 33 | E48: 9442 | O48: Politechnika Lubelska
A49: w tym | B49: aparatura naukowo-badawcza | D49: =D48+1 -> 34 | E49: 3502 | O49: Politechnika Łódzka
A50: Ogółem koszty rodzajowe (26+27+28+29+30+32+33) | D50: =D49+1 -> 35 | E50: =E41+E42+E43+E44+E45+E47+E48 -> 146175.5 | O50: Politechnika Poznańska
A51: Zmiana stanu produktów ( +, – ) | D51: =D50+1 -> 36 | E51: 0 | O51: Politechnika Rzeszowska im. Ignacego Łukasiewicza
A52: Ogółem koszty własne podstawowej działalności operacyjnej (35+36) | D52: =D51+1 -> 37 | E52: =E50+E51 -> 146175.5 | O52: Zachodniopomorski Uniwersytet Technologiczny w Szczecinie
A53: z tego | B53: działalności dydaktycznej | D53: =D52+1 -> 38 | E53: 118360.5 | O53: Politechnika Warszawska
B54: w tym | C54: odpis na własny fundusz stypendialny | D54: =D53+1 -> 39 | O54: Politechnika Wrocławska
B55: działalności badawczej | D55: =D54+1 -> 40 | E55: 27815 | O55: Akademia Górniczo-Hutnicza im. Stanisława Staszica w Krakowie
B56: działalności gospodarczej wyodrębnionej | D56: =D55+1 -> 41 | E56: 0 | O56: Politechnika Koszalińska
A57: Pozostałe koszty (43+44) | D57: =D56+1 -> 42 | E57: =E58+E59 -> 150 | O57: Politechnika Opolska
A58: Wartość sprzedanych towarów i materiałów | D58: =D57+1 -> 43 | E58: 0 | O58: Politechnika Radomska im. Kazimierza Pułaskiego
A59: Pozostałe koszty operacyjne | D59: =D58+1 -> 44 | E59: 150 | O59: Akademia Techniczno-Humanistyczna w Bielsku-Białej
A60: C. Zysk (strata) z działalności operacyjnej (01−24) | D60: =D59+1 -> 45 | E60: =E11-E39 -> -4706.5 | O60: Uniwersytet Technologiczno-Przyrodniczy im. Jana i Jędrzeja Śniadeckich w Bydgoszczy
A61: D. Przychody finansowe | D61: =D60+1 -> 46 | E61: 2500 | O61: Uniwersytet Rolniczy im. Hugona Kołłątaja w Krakowie
A62: E. Koszty finansowe | D62: =D61+1 -> 47 | E62: 150 | O62: Uniwersytet Przyrodniczy w Lublinie
A63: F. Zysk (strata) z działalności (45+46−47) | D63: =D62+1 -> 48 | E63: =E60+E61-E62 -> -2356.5 | O63: Uniwersytet Przyrodniczy w Poznaniu
A64: G. Wynik zdarzeń nadzwyczajnych (50-51) | D64: =D63+1 -> 49 | E64: =E65-E66 -> 0 | O64: Uniwersytet Przyrodniczo-Humanistyczny w Siedlcach
A65: Zyski nadzwyczajne | D65: =D64+1 -> 50 | O65: Szkoła Główna Gospodarstwa Wiejskiego w Warszawie
A66: Straty nadzwyczajne | D66: =D65+1 -> 51 | O66: Uniwersytet Przyrodniczy we Wrocławiu
A67: H. Zysk (strata) brutto (48+49) | D67: =D66+1 -> 52 | E67: =E63+E64 -> -2356.5 | O67: Akademia Wychowania Fizycznego im. Jerzego Kukuczki w Katowicach
A68: I. Podatek dochodowy | D68: =D67+1 -> 53 | O68: Akademia Wychowania Fizycznego im. Bronisława Czecha w Krakowie
A69: J. Pozostałe obowiązkowe zmniejszenia zysku (zwiększenia straty) | D69: =D68+1 -> 54 | O69: Akademia Wychowania Fizycznego im. Eugeniusza Piaseckiego w Poznaniu
A70: K. Zysk (strata) netto (52−53−54) | D70: =D69+1 -> 55 | E70: =E67-E68-E69 -> -2356.5 | O70: Akademia Wychowania Fizycznego Józefa Piłsudskiego w Warszawie
O71: Akademia Wychowania Fizycznego we Wrocławiu
O72: Akademia Wychowania Fizycznego i Sportu im. Jędrzeja Śniadeckiego w Gdańsku
O73: Państwowa Wyższa Szkoła Zawodowa w Elblągu
H74: , | O74: Państwowa Wyższa Szkoła Zawodowa w Gorzowie Wielkopolskim
O75: Państwowa Wyższa Szkoła Techniczno-Ekonomiczna im. ks. Bronisława Markiewicza w Jarosławiu
O76: Karkonoska Państwowa Szkoła Wyższa w Jeleniej Górze
O77: Państwowa Wyższa Szkoła Zawodowa w Koninie
O78: Państwowa Wyższa Szkoła Zawodowa im. Witelona w Legnicy
O79: Państwowa Wyższa Szkoła Zawodowa w Nowym Sączu
O80: Państwowa Wyższa Szkoła Zawodowa w Sulechowie
O81: Państwowa Wyższa Szkoła Zawodowa w Tarnowie
O82: Państwowa Wyższa Szkoła Zawodowa im. Prezydenta Stanisława Wojciechowskiego w Kaliszu
O83: Państwowa Wyższa Szkoła Zawodowa w Krośnie
O84: Państwowa Wyższa Szkoła Zawodowa im. Jana Amosa Komeńskiego w Lesznie
O85: Państwowa Wyższa Szkoła Zawodowa w Płocku
O86: Państwowa Wyższa Szkoła Zawodowa im. Angelusa Silesiusa w Wałbrzychu
... O109: Prawosławne Seminarium Duchowne w Warszawie

Sheet dzial II
A1: ='dział I'!A3 -> UNIWERSYTET MEDYCZNY W BIAŁYMSTOKU
A2: Dział II. Fundusz pomocy materialnej dla studentów i doktorantów – w tysiącach złotych z jednym znakiem po przecinku
A4: WYSZCZEGÓLNIENIE | E4: Plan na 2012 rok
A5: 1 | E5: 2
A6: stan funduszu na początek roku | D6: 01 | E6: 2388.7
A7: w tym | B7: z dotacji budżetu państwa | D7: 02 | E7: 669.6
A8: zwiększenia ogółem (04+06+07+08) | D8: 03 | E8: =E9+E11+E12+E13 -> 9802.8
A9: z tego | B9: dotacja z budżetu państwa | D9: 04 | E9: 7370.8
B10: w tym prze- znaczona na | C10: pomoc materialną dla doktorantów | D10: 05 | E10: 181
B11: opłaty za korzystanie z domów studenckich | D11: 06 | E11: 1960
B12: opłaty za korzystanie ze stołówek studenckich | D12: 07 | E12: 0
B13: inne przychody | D13: 08 | E13: 472
A14: zmniejszenia ogółem (10+18+24+28) | D14: 09 | E14: =E15+E23+E29+E33 -> 9896.7
A15: z tego | B15: dla studentów (11+12+13+14+15+16+17) | D15: 10 | E15: =SUM(E16:E22) -> 5174
B16: z tego | C16: stypendia socjalne | D16: 11 | E16: 3040
C17: stypendia specjalne dla osób niepełnosprawnych | D17: 12 | E17: 83
C18: stypendia rektora dla najlepszych studentów | D18: 13 | E18: 2036
C19: stypendia ministra za osiągnięcia w nauce | D19: =D18+1 -> 14 | E19: 0
C20: stypendia ministra za wybitne osiągnięcia | D20: =D19+1 -> 15 | E20: 0
C21: stypendia ministra za wybitne osiągnięcia sportowe | D21: =D20+1 -> 16 | E21: 0
C22: zapomogi | D22: =D21+1 -> 17 | E22: 15
B23: dla doktorantów (19+20+21+22+23) | D23: =D22+1 -> 18 | E23: =SUM(E24:E28) -> 181
B24: z tego | C24: stypendia socjalne | D24: =D23+1 -> 19 | E24: 56
C25: zapomogi | D25: =D24+1 -> 20 | E25: 0
C26: stypendia dla najlepszych doktorantów | D26: =D25+1 -> 21 | E26: 110
C27: stypendia specjalne dla osób niepełnosprawnych | D27: =D26+1 -> 22 | E27: 15
C28: stypendia ministra za wybitne osiągnięcia | D28: =D27+1 -> 23 | E28: 0
B29: koszty utrzymania domów i stołówek studenckich | D29: =D28+1 -> 24 | E29: 4527
B30: w tym | C30: wynagrodzenia | D30: =D29+1 -> 25 | E30: 531.7
C31: składki na ubezpieczenia społeczne i fundusz pracy | D31: =D30+1 -> 26 | E31: 104.5
C32: remonty i modernizacja | D32: =D31+1 -> 27 | E32: 1859
B33: koszty realizacji zadań związanych z przyznawaniem i wypłacaniem stypendiów i zapomóg dla studentów i doktorantów | D33: =D32+1 -> 28 | E33: 14.7
A34: Stan funduszu na koniec okresu sprawozdawczego (01+03−09) | D34: =D33+1 -> 29 | E34: =E6+E8-E14 -> 2294.8
A35: w tym | B35: z dotacji budżetu państwa | D35: =D34+1 -> 30 | E35: 811.7

Sheet dział III
A1: ='dział I'!A3 -> UNIWERSYTET MEDYCZNY W BIAŁYMSTOKU
A2: Dział III. Pozostałe fundusze uczelni – w tysiącach złotych z jednym znakiem po przecinku
A4: WYSZCZEGÓLNIENIE | F4: Plan na 2012 rok
A5: 1 | F5: 2
A6: Fundusz zasadniczy | B6: stan funduszu na początek roku | E6: 01 | F6: 364431.7
B7: zwiększenia ogółem | E7: 02 | F7: 90898.5
B8: w tym | C8: odpisy z zysku netto | E8: 03 | F8: 0
C9: równowartość zakończonych i oddanych do użytkowania inwestycji budowlanych | E9: 04 | F9: 90898.5
C10: aktualizacja wyceny środków trwałych | E10: 05 | F10: 0
B11: zmniejszenia ogółem | E11: 06 | F11: 9100.2
B12: w tym | C12: pokrycie straty netto | E12: 07 | F12: 1095.1
C13: aktualizacja wyceny środków trwałych | E13: 08 | F13: 6800
B14: stan funduszu na koniec okresu sprawozdawczego (01+02−06) | E14: 09 | F14: =F6+F7-F11 -> 446230
A15: Zakładowy fundusz świadczeń socjalnych | B15: stan funduszu na początek roku | E15: =E14+1 -> 10 | F15: 3562.4
B16: zwiększenia ogółem | E16: =E15+1 -> 11 | F16: 4295.7
B17: zmniejszenia ogółem | E17: =E16+1 -> 12 | F17: 4188
B18: stan funduszu na koniec okresu sprawozdawczego (10+11−12) | E18: =E17+1 -> 13 | F18: =F15+F16-F17 -> 3670.1
A19: Własny fundusz stypendialny | B19: stan funduszu na początek roku | E19: =E18+1 -> 14 | F19: 94.6
B20: zwiększenia ogółem | E20: =E19+1 -> 15 | F20: 0
B21: w tym | C21: odpis w ciężar kosztów działalności dydaktycznej | E21: =E20+1 -> 16 | F21: ='dział I'!E54 -> 0
B22: zmniejszenia ogółem | E22: =E21+1 -> 17 | F22: 1
B23: stan funduszu na koniec okresu sprawozdawczego (14+15−17) | E23: =E22+1 -> 18 | F23: =F19+F20-F22 -> 93.6
A24: Fundusz wdrożeniowy* | B24: stan funduszu na początek roku | E24: =E23+1 -> 19 | F24: 0
B25: zwiększenie ogółem | E25: =E24+1 -> 20 | F25: 0
B26: zmniejszenie ogółem | E26: =E25+1 -> 21 | F26: 0
B27: stan funduszu na koniec okresu sprawozdawczego (19+20−21) | E27: =E26+1 -> 22 | F27: =F24+F25-F26 -> 0
A28: Fundusz rozwoju | B28: stan funduszu na początek roku | E28: =E27+1 -> 23 | F28: 0
B29: zwiększenie ogółem | E29: =E28+1 -> 24 | F29: 0
B30: zmniejszenie ogółem | E30: =E29+1 -> 25 | F30: 0
B31: stan funduszu na koniec okresu sprawozdawczego (23+24-25) | E31: =E30+1 -> 26 | F31: =F28+F29-F30 -> 0
A33: Inne fundusze tworzone na podstawie odrębnych przepisów
A34: ……….. | B34: stan funduszu na początek roku | E34: =E31+1 -> 27 | F34: 0
B35: zwiększenie ogółem | E35: =E34+1 -> 28 | F35: 0
B36: zmniejszenie ogółem | E36: =E35+1 -> 29 | F36: 0
B37: stan funduszu na koniec okresu sprawozdawczego (27+28-29) | E37: =E36+1 -> 30 | F37: =F34+F35+F36 -> 0
A39: * Uczelnie wykazujące środki w funduszu wdrożeniowym przedstawiają w części opisowej wykaz umów zawartych przed dniem 31 grudnia 2006 r. − na podstawie których funkcjonuje w uczelni ww. fundusz − z uwzględnieniem terminu ich zakończenia.

Sheet dzial IV
B1: ='dział I'!A3 -> UNIWERSYTET MEDYCZNY W BIAŁYMSTOKU
B2: Dział IV.Zatrudnienie i wynagrodzenia w grupach stanowisk
A4: L. p | B4: Wyszczególnienie | D4: Zatrudnienie | E4: Wynagrodzenia wynikające ze stosunku pracy | F4: w tym
F5: osobowe | G5: w tym | H5: dodatkowe wynagrodzenie roczne
G6: nagrody rektora
B7: 1 | D7: 2 | E7: 3 | F7: 4 | G7: 5 | H7: 6
B8: Plan na 2012 rok
A9: 01 | B9: Razem | D9: =D11+D15 -> 1252 | E9: =E11+E15 -> 69325 | F9: =F11+F15 -> 64623 | G9: =G11+G15 -> 1084.5 | H9: =H11+H15 -> 4702
B10: z tego
A11: 02 | B11: Nauczyciele akademiccy | D11: =D12+D13+D14 -> 752 | E11: =E12+E13+E14 -> 49045.9 | F11: =F12+F13+F14 -> 45801 | G11: 898.1 | H11: =H12+H13+H14 -> 3244.9
A12: 03 | B12: z tego w grupach stanowisk | C12: profesorów | D12: 116 | E12: 13278.1 | F12: 12366 | H12: 912.1
A13: 04 | C13: docentów, adiunktów i starszych wykładowców | D13: 312 | E13: 23046.6 | F13: 21526 | H13: 1520.6
A14: 05 | C14: asystentów, wykładowców, lektorów i instruktorów | D14: 324 | E14: 12721.2 | F14: 11909 | H14: 812.2
A15: 06 | B15: Pracownicy niebędący nauczycielami akademickimi | D15: 500 | E15: 20279.1 | F15: 18822 | G15: 186.4 | H15: 1457.1
A16: 07 | B16: w tym | C16: w ramach działalności dydaktycznej | D16: 484 | E16: 19725.4 | F16: 18319 | H16: 1406.4
B18: Należy podać:
B19: - przeciętne zatrudnienie z jednym znakiem po przecinku,
B20: - wynagrodzenia w tysiącach złotych z jednym znakiem po przecinku,

Sheet dział V
A1: ='dział I'!A3 -> UNIWERSYTET MEDYCZNY W BIAŁYMSTOKU
A2: Dział V. Informacje rzeczowe i uzupełniające
A4: WYSZCZEGÓLNIENIE | E4: Jednostka miary | F4: Plan na 2012 rok
A5: 1 | E5: 2 | F5: 3
A6: Liczba studentów ogółem (02+04) | D6: 01 | E6: osoby | F6: =F7+F9 -> 5267
A7: z tego | B7: studiów stacjonarnych | D7: 02 | E7: osoby | F7: 4488
B8: w tym | C8: nowo przyjętych | D8: 03 | E8: osoby | F8: 1333
B9: studiów niestacjonarnych | D9: 04 | E9: osoby | F9: 779
B10: w tym | C10: nowo przyjętych | D10: 05 | E10: osoby | F10: 435
A11: Liczba studentów otrzymujących stypendia z funduszu pomocy materialnej dla studentów i doktorantów | D11: 06 | E11: osoby | F11: 1700
A12: Liczba doktorantów otrzymujących stypendia z funduszu pomocy materialnej dla studentów i doktorantów | D12: 07 | E12: osoby | F12: 50
A13: Liczba miejsc w domach studenckich | D13: 08 | E13: miejsca | F13: 560
A14: Liczba uczestników studiów doktoranckich ogółem | D14: 09 | E14: osoby | F14: 116
A15: w tym | B15: uczestników stacjonarnych studiów doktoranckich | D15: 10 | E15: osoby | F15: 116
A16: Liczba uczestników studiów doktoranckich pobierających stypendium doktoranckie | D16: 11 | E16: osoby | F16: 116
A17: Kwota stypendiów doktoranckich | D17: 12 | E17: tys. zł | F17: 1300
A18: Koszty remontów budynków i lokali oraz obiektów inżynierii lądowej i wodnej (z wyjątkiem domów i stołówek studenckich) | D18: 13 | E18: tys. zł | F18: 1623
A19: Nakłady na rzeczowe aktywa trwałe | D19: 14 | E19: tys. zł | F19: 101856
A20: w tym | B20: nakłady na urządzenia techniczne i maszyny, środki transportu i inne środki trwałe | D20: 15 | E20: tys. zł | F20: 7498
B22: Eugenia Backiel zkwestor@umb.edu.pl
A23: 85 748-54-18 | C23: Białystok, dnia 2012-06-28 | E23: Prof. dr hab. Jacek Nikliński Rektor
A24: (imię, nazwisko, telefon, | C24: (miejscowość, data) | E24: (pieczątka imienna i podpis Rektora)
A25: e-mail osoby sporządzającej)
